BEGIN:VCALENDAR
VERSION:2.0
PRODID:-//wp-events-plugin.com//7.2.2.1//EN
BEGIN:VEVENT
UID:4@custodianconsult.com
DTSTART;TZID=Africa/Dakar;VALUE=DATE:20240417
DTEND;TZID=Africa/Dakar;VALUE=DATE:20240421
DTSTAMP:20250620T120831Z
URL:https://custodianconsult.com/events-2/womens-international-conference/
SUMMARY:Duchess International Women's Day Conference 2024
DESCRIPTION:Duchess International Magazine hosts the second edition of its 
 annual International Women’s Day Conference in Nairobi Kenya.
ATTACH;FMTTYPE=image/jpeg:https://custodianconsult.com/wp-content/uploads/
 2024/12/2024.jpg
LOCATION:Radison Blue Hotel\, Elgon Road\, Nairobi\, Kenya
X-APPLE-STRUCTURED-LOCATION;VALUE=URI;X-ADDRESS=Elgon Road\, Nairobi\, Keny
 a;X-APPLE-RADIUS=100;X-TITLE=Radison Blue Hotel:geo:0,0
END:VEVENT
BEGIN:VTIMEZONE
TZID:Africa/Dakar
X-LIC-LOCATION:Africa/Dakar
BEGIN:STANDARD
DTSTART:20230418T000000
TZOFFSETFROM:+0000
TZOFFSETTO:+0000
TZNAME:GMT
END:STANDARD
END:VTIMEZONE
END:VCALENDAR