BEGIN:VCALENDAR
VERSION:2.0
PRODID:-//wp-events-plugin.com//7.2.2.1//EN
BEGIN:VEVENT
UID:6@custodianconsult.com
DTSTART;TZID=Africa/Dakar;VALUE=DATE:20250417
DTEND;TZID=Africa/Dakar;VALUE=DATE:20250421
DTSTAMP:20250619T151541Z
URL:https://custodianconsult.com/events-2/duchess-international-womens-day
 -conference-2025/
SUMMARY:Duchess International Women's Day Conference 2025
DESCRIPTION:#Inspiration: Supporting Women and Girls in Leadership\, STEM\,
  Business\, and Talent Development
ATTACH;FMTTYPE=image/jpeg:https://custodianconsult.com/wp-content/uploads/
 2024/12/IWDC2025.jpg
LOCATION:Route de la Corniche Ouest\, Route de la Corniche Ouest\, Région 
 de Dakar\, Senegal
X-APPLE-STRUCTURED-LOCATION;VALUE=URI;X-ADDRESS=Route de la Corniche Ouest\
 , Région de Dakar\, Senegal;X-APPLE-RADIUS=100;X-TITLE=Route de la Cornic
 he Ouest:geo:0,0
END:VEVENT
BEGIN:VTIMEZONE
TZID:Africa/Dakar
X-LIC-LOCATION:Africa/Dakar
BEGIN:STANDARD
DTSTART:20240417T000000
TZOFFSETFROM:+0000
TZOFFSETTO:+0000
TZNAME:GMT
END:STANDARD
END:VTIMEZONE
END:VCALENDAR