BEGIN:VCALENDAR
VERSION:2.0
PRODID:-//wp-events-plugin.com//7.2.2.1//EN
BEGIN:VEVENT
UID:7@custodianconsult.com
DTSTART;TZID=Africa/Kigali;VALUE=DATE:20230426
DTEND;TZID=Africa/Kigali;VALUE=DATE:20230429
DTSTAMP:20250620T120154Z
URL:https://custodianconsult.com/events-2/duchess-international-womens-day
 -conference-2023/
SUMMARY:Duchess International Women's Day Conference 2023
DESCRIPTION:Join us from April 26th to 28th for an International Women’s 
 Day Conference in Kigali\, Rwanda.
ATTACH;FMTTYPE=image/jpeg:https://custodianconsult.com/wp-content/uploads/
 2025/06/didwc2023.jpeg
LOCATION:Four Points by Sheraton Kigali\, KN3 Avenue\, Nyarugenge District\
 , Kigali\, Rwanda
X-APPLE-STRUCTURED-LOCATION;VALUE=URI;X-ADDRESS=KN3 Avenue\, Nyarugenge Dis
 trict\, Kigali\, Rwanda;X-APPLE-RADIUS=100;X-TITLE=Four Points by Sheraton
  Kigali:geo:0,0
END:VEVENT
BEGIN:VTIMEZONE
TZID:Africa/Kigali
X-LIC-LOCATION:Africa/Kigali
BEGIN:STANDARD
DTSTART:20220426T000000
TZOFFSETFROM:+0200
TZOFFSETTO:+0200
TZNAME:CAT
END:STANDARD
END:VTIMEZONE
END:VCALENDAR